Package: fastLiquidAssociation Version: 1.46.0 Command: /home/biocbuild/bbs-3.22-bioc/R/bin/R CMD build --keep-empty-dirs --no-resave-data --md5 fastLiquidAssociation StartedAt: 2025-11-16 17:43:23 -0500 (Sun, 16 Nov 2025) EndedAt: 2025-11-16 17:44:42 -0500 (Sun, 16 Nov 2025) EllapsedTime: 79.1 seconds RetCode: 0 Status: OK PackageFile: fastLiquidAssociation_1.46.0.tar.gz PackageFileSize: 751.7 KiB