Package: factR Version: 1.12.0 Command: /home/biocbuild/bbs-3.22-bioc/R/bin/R CMD INSTALL factR StartedAt: 2025-11-14 15:42:30 -0500 (Fri, 14 Nov 2025) EndedAt: 2025-11-14 15:42:40 -0500 (Fri, 14 Nov 2025) EllapsedTime: 9.2 seconds RetCode: 0 Status: OK