Package: fCCAC Version: 1.36.0 Command: /home/biocbuild/bbs-3.22-bioc/R/bin/R CMD build --keep-empty-dirs --no-resave-data --md5 fCCAC StartedAt: 2025-11-16 17:43:46 -0500 (Sun, 16 Nov 2025) EndedAt: 2025-11-16 17:45:00 -0500 (Sun, 16 Nov 2025) EllapsedTime: 74.1 seconds RetCode: 0 Status: OK PackageFile: fCCAC_1.36.0.tar.gz PackageFileSize: 3.5 MiB