Package: erccdashboard Version: 1.44.0 Command: /home/biocbuild/bbs-3.22-bioc/R/bin/R CMD INSTALL erccdashboard StartedAt: 2025-10-30 15:08:12 -0400 (Thu, 30 Oct 2025) EndedAt: 2025-10-30 15:08:22 -0400 (Thu, 30 Oct 2025) EllapsedTime: 9.4 seconds RetCode: 0 Status: OK