Package: epivizrChart Version: 1.31.0 Command: /home/biocbuild/bbs-3.22-bioc/R/bin/R CMD INSTALL epivizrChart StartedAt: 2025-10-28 15:43:13 -0400 (Tue, 28 Oct 2025) EndedAt: 2025-10-28 15:43:56 -0400 (Tue, 28 Oct 2025) EllapsedTime: 42.5 seconds RetCode: 0 Status: OK