Package: epivizrChart Version: 1.32.0 Command: /Library/Frameworks/R.framework/Resources/bin/R CMD INSTALL epivizrChart StartedAt: 2025-11-10 15:22:44 -0500 (Mon, 10 Nov 2025) EndedAt: 2025-11-10 15:23:01 -0500 (Mon, 10 Nov 2025) EllapsedTime: 17.6 seconds RetCode: 0 Status: OK