Package: epivizrChart Version: 1.32.0 Command: rm -rf epivizrChart.buildbin-libdir && mkdir epivizrChart.buildbin-libdir && /Users/biocbuild/BBS/utils/build-universal.sh epivizrChart_1.32.0.tar.gz /Library/Frameworks/R.framework/Resources/bin/R epivizrChart.buildbin-libdir StartedAt: 2025-11-10 23:19:28 -0500 (Mon, 10 Nov 2025) EndedAt: 2025-11-10 23:19:47 -0500 (Mon, 10 Nov 2025) EllapsedTime: 19.3 seconds RetCode: 0 Status: OK PackageFile: epivizrChart_1.32.0.tgz PackageFileSize: 6.271 MiB