Package: epivizr Version: 2.40.0 Command: /home/biocbuild/bbs-3.22-bioc/R/bin/R CMD INSTALL epivizr StartedAt: 2025-11-16 15:46:26 -0500 (Sun, 16 Nov 2025) EndedAt: 2025-11-16 15:47:14 -0500 (Sun, 16 Nov 2025) EllapsedTime: 48.3 seconds RetCode: 0 Status: OK