Package: epivizr Version: 2.40.0 Command: /home/biocbuild/bbs-3.22-bioc/R/bin/R CMD build --keep-empty-dirs --no-resave-data --md5 epivizr StartedAt: 2025-11-16 17:39:06 -0500 (Sun, 16 Nov 2025) EndedAt: 2025-11-16 17:40:15 -0500 (Sun, 16 Nov 2025) EllapsedTime: 69.0 seconds RetCode: 0 Status: OK PackageFile: epivizr_2.40.0.tar.gz PackageFileSize: 1.182 MiB