Package: epistasisGA Version: 1.12.0 Command: /home/biocbuild/bbs-3.22-bioc/R/bin/R CMD INSTALL epistasisGA StartedAt: 2025-11-14 15:12:59 -0500 (Fri, 14 Nov 2025) EndedAt: 2025-11-14 15:13:48 -0500 (Fri, 14 Nov 2025) EllapsedTime: 49.2 seconds RetCode: 0 Status: OK