Package: epistack Version: 1.16.0 Command: /home/biocbuild/bbs-3.22-bioc/R/bin/R CMD INSTALL epistack StartedAt: 2025-11-17 17:30:36 -0500 (Mon, 17 Nov 2025) EndedAt: 2025-11-17 17:30:57 -0500 (Mon, 17 Nov 2025) EllapsedTime: 20.6 seconds RetCode: 0 Status: OK