Package: epimutacions Version: 1.14.0 Command: /home/biocbuild/bbs-3.22-bioc/R/bin/R CMD INSTALL epimutacions StartedAt: 2025-11-14 16:04:14 -0500 (Fri, 14 Nov 2025) EndedAt: 2025-11-14 16:05:02 -0500 (Fri, 14 Nov 2025) EllapsedTime: 47.6 seconds RetCode: 0 Status: OK