Package: epimutacions Version: 1.14.0 Command: /home/biocbuild/bbs-3.22-bioc/R/bin/R CMD build --keep-empty-dirs --no-resave-data --md5 epimutacions StartedAt: 2025-11-16 17:38:18 -0500 (Sun, 16 Nov 2025) EndedAt: 2025-11-16 17:41:23 -0500 (Sun, 16 Nov 2025) EllapsedTime: 185.1 seconds RetCode: 0 Status: OK PackageFile: epimutacions_1.14.0.tar.gz PackageFileSize: 1.728 MiB