Package: epigraHMM Version: 1.18.0 Command: /home/biocbuild/bbs-3.22-bioc/R/bin/R CMD INSTALL epigraHMM StartedAt: 2025-11-17 17:42:19 -0500 (Mon, 17 Nov 2025) EndedAt: 2025-11-17 17:44:25 -0500 (Mon, 17 Nov 2025) EllapsedTime: 126.3 seconds RetCode: 0 Status: OK