Package: epigraHMM Version: 1.18.0 Command: /home/biocbuild/bbs-3.22-bioc/R/bin/R CMD build --keep-empty-dirs --no-resave-data --md5 epigraHMM StartedAt: 2025-11-17 20:52:58 -0500 (Mon, 17 Nov 2025) EndedAt: 2025-11-17 21:01:48 -0500 (Mon, 17 Nov 2025) EllapsedTime: 529.5 seconds RetCode: 0 Status: OK PackageFile: epigraHMM_1.18.0.tar.gz PackageFileSize: 726.7 KiB