Package: epigenomix Version: 1.50.0 Command: /home/biocbuild/bbs-3.22-bioc/R/bin/R CMD INSTALL epigenomix StartedAt: 2025-11-17 17:47:40 -0500 (Mon, 17 Nov 2025) EndedAt: 2025-11-17 17:48:22 -0500 (Mon, 17 Nov 2025) EllapsedTime: 42.5 seconds RetCode: 0 Status: OK