Package: epigenomix Version: 1.50.0 Command: /home/biocbuild/bbs-3.22-bioc/R/bin/R CMD build --keep-empty-dirs --no-resave-data --md5 epigenomix StartedAt: 2025-11-17 20:52:54 -0500 (Mon, 17 Nov 2025) EndedAt: 2025-11-17 20:54:16 -0500 (Mon, 17 Nov 2025) EllapsedTime: 82.1 seconds RetCode: 0 Status: OK PackageFile: epigenomix_1.50.0.tar.gz PackageFileSize: 427.8 KiB