Package: epidecodeR Version: 1.18.0 Command: /home/biocbuild/bbs-3.22-bioc/R/bin/R CMD check --install=check:epidecodeR.install-out.txt --library=/home/biocbuild/bbs-3.22-bioc/R/site-library --timings epidecodeR_1.18.0.tar.gz StartedAt: 2025-10-30 23:18:26 -0400 (Thu, 30 Oct 2025) EndedAt: 2025-10-30 23:22:44 -0400 (Thu, 30 Oct 2025) EllapsedTime: 257.2 seconds RetCode: 0 Status: OK CheckDir: epidecodeR.Rcheck Warnings: 0