Package: epialleleR Version: 1.18.0 Command: /home/biocbuild/bbs-3.22-bioc/R/bin/R CMD INSTALL epialleleR StartedAt: 2025-11-17 17:46:57 -0500 (Mon, 17 Nov 2025) EndedAt: 2025-11-17 17:48:01 -0500 (Mon, 17 Nov 2025) EllapsedTime: 64.1 seconds RetCode: 0 Status: OK