Package: ensembldb Version: 2.34.0 Command: /Library/Frameworks/R.framework/Resources/bin/R CMD INSTALL ensembldb StartedAt: 2025-11-03 15:40:46 -0500 (Mon, 03 Nov 2025) EndedAt: 2025-11-03 15:41:42 -0500 (Mon, 03 Nov 2025) EllapsedTime: 56.2 seconds RetCode: 0 Status: OK