Package: ensembldb Version: 2.34.0 Command: rm -rf ensembldb.buildbin-libdir && mkdir ensembldb.buildbin-libdir && /Users/biocbuild/BBS/utils/build-universal.sh ensembldb_2.34.0.tar.gz /Library/Frameworks/R.framework/Resources/bin/R ensembldb.buildbin-libdir StartedAt: 2025-11-04 01:38:56 -0500 (Tue, 04 Nov 2025) EndedAt: 2025-11-04 01:39:59 -0500 (Tue, 04 Nov 2025) EllapsedTime: 62.9 seconds RetCode: 0 Status: OK PackageFile: ensembldb_2.34.0.tgz PackageFileSize: 3.596 MiB