Package: enrichplot Version: 1.30.3 Command: /Library/Frameworks/R.framework/Resources/bin/R CMD INSTALL enrichplot StartedAt: 2025-11-17 18:28:31 -0500 (Mon, 17 Nov 2025) EndedAt: 2025-11-17 18:29:25 -0500 (Mon, 17 Nov 2025) EllapsedTime: 53.8 seconds RetCode: 0 Status: OK