Package: enrichplot Version: 1.30.3 Command: rm -rf enrichplot.buildbin-libdir && mkdir enrichplot.buildbin-libdir && /Users/biocbuild/BBS/utils/build-universal.sh enrichplot_1.30.3.tar.gz /Library/Frameworks/R.framework/Resources/bin/R enrichplot.buildbin-libdir StartedAt: 2025-11-18 17:36:30 -0500 (Tue, 18 Nov 2025) EndedAt: 2025-11-18 17:37:24 -0500 (Tue, 18 Nov 2025) EllapsedTime: 53.7 seconds RetCode: 0 Status: OK PackageFile: enrichplot_1.30.3.tgz PackageFileSize: 306.8 KiB