Package: enrichplot Version: 1.29.4 Command: /Library/Frameworks/R.framework/Resources/bin/R CMD INSTALL enrichplot StartedAt: 2025-10-28 15:42:18 -0400 (Tue, 28 Oct 2025) EndedAt: 2025-10-28 15:42:50 -0400 (Tue, 28 Oct 2025) EllapsedTime: 32.7 seconds RetCode: 0 Status: OK