Package: enrichplot Version: 1.29.4 Command: /Library/Frameworks/R.framework/Resources/bin/R CMD build --keep-empty-dirs --no-resave-data enrichplot StartedAt: 2025-10-28 16:54:38 -0400 (Tue, 28 Oct 2025) EndedAt: 2025-10-28 16:55:08 -0400 (Tue, 28 Oct 2025) EllapsedTime: 29.7 seconds RetCode: 0 Status: OK PackageFile: enrichplot_1.29.4.tar.gz PackageFileSize: 96.56 KiB