Package: enrichplot Version: 1.29.4 Command: rm -rf enrichplot.buildbin-libdir && mkdir enrichplot.buildbin-libdir && /Users/biocbuild/BBS/utils/build-universal.sh enrichplot_1.29.4.tar.gz /Library/Frameworks/R.framework/Resources/bin/R enrichplot.buildbin-libdir StartedAt: 2025-10-29 01:33:44 -0400 (Wed, 29 Oct 2025) EndedAt: 2025-10-29 01:34:18 -0400 (Wed, 29 Oct 2025) EllapsedTime: 34.7 seconds RetCode: 0 Status: OK PackageFile: enrichplot_1.29.4.tgz PackageFileSize: 305.9 KiB