Package: enrichplot Version: 1.29.4 Command: rm -rf enrichplot.buildbin-libdir && mkdir enrichplot.buildbin-libdir && /Users/biocbuild/BBS/utils/build-universal.sh enrichplot_1.29.4.tar.gz /Library/Frameworks/R.framework/Resources/bin/R enrichplot.buildbin-libdir StartedAt: 2025-10-24 23:01:59 -0400 (Fri, 24 Oct 2025) EndedAt: 2025-10-24 23:02:10 -0400 (Fri, 24 Oct 2025) EllapsedTime: 10.2 seconds RetCode: 0 Status: OK PackageFile: enrichplot_1.29.4.tgz PackageFileSize: 307.3 KiB