Package: enrichplot Version: 1.30.3 Command: /Library/Frameworks/R.framework/Resources/bin/R CMD INSTALL enrichplot StartedAt: 2025-11-17 18:18:20 -0500 (Mon, 17 Nov 2025) EndedAt: 2025-11-17 18:18:29 -0500 (Mon, 17 Nov 2025) EllapsedTime: 9.4 seconds RetCode: 0 Status: OK