Package: enrichplot Version: 1.30.3 Command: /Library/Frameworks/R.framework/Resources/bin/R CMD build --keep-empty-dirs --no-resave-data enrichplot StartedAt: 2025-11-17 20:59:50 -0500 (Mon, 17 Nov 2025) EndedAt: 2025-11-17 20:59:59 -0500 (Mon, 17 Nov 2025) EllapsedTime: 9.1 seconds RetCode: 0 Status: OK PackageFile: enrichplot_1.30.3.tar.gz PackageFileSize: 96.13 KiB