Package: enrichplot Version: 1.30.3 Command: rm -rf enrichplot.buildbin-libdir && mkdir enrichplot.buildbin-libdir && /Users/biocbuild/BBS/utils/build-universal.sh enrichplot_1.30.3.tar.gz /Library/Frameworks/R.framework/Resources/bin/R enrichplot.buildbin-libdir StartedAt: 2025-11-18 15:30:21 -0500 (Tue, 18 Nov 2025) EndedAt: 2025-11-18 15:30:34 -0500 (Tue, 18 Nov 2025) EllapsedTime: 13.1 seconds RetCode: 0 Status: OK PackageFile: enrichplot_1.30.3.tgz PackageFileSize: 306.9 KiB