Package: enrichplot Version: 1.30.1 Maintainer: Guangchuang Yu MaintainerEmail: guangchuangyu at gmail.com git_url: https://git.bioconductor.org/packages/enrichplot git_branch: RELEASE_3_22 git_last_commit: b208bbc git_last_commit_date: 2025-11-05 19:52:23 -0500 (Wed, 05 Nov 2025)