Package: enrichViewNet Version: 1.8.0 Command: /Library/Frameworks/R.framework/Resources/bin/R CMD INSTALL enrichViewNet StartedAt: 2025-11-03 15:45:22 -0500 (Mon, 03 Nov 2025) EndedAt: 2025-11-03 15:45:56 -0500 (Mon, 03 Nov 2025) EllapsedTime: 34.1 seconds RetCode: 0 Status: OK