Package: enrichViewNet Version: 1.7.3 Command: /Library/Frameworks/R.framework/Resources/bin/R CMD INSTALL enrichViewNet StartedAt: 2025-10-28 15:26:08 -0400 (Tue, 28 Oct 2025) EndedAt: 2025-10-28 15:26:17 -0400 (Tue, 28 Oct 2025) EllapsedTime: 9.7 seconds RetCode: 0 Status: OK