Package: enrichViewNet Version: 1.7.3 Command: /Library/Frameworks/R.framework/Resources/bin/R CMD build --keep-empty-dirs --no-resave-data enrichViewNet StartedAt: 2025-10-27 16:19:31 -0400 (Mon, 27 Oct 2025) EndedAt: 2025-10-27 16:20:00 -0400 (Mon, 27 Oct 2025) EllapsedTime: 29.3 seconds RetCode: 0 Status: OK PackageFile: enrichViewNet_1.7.3.tar.gz PackageFileSize: 5.308 MiB