Package: enrichViewNet Version: 1.7.3 Command: rm -rf enrichViewNet.buildbin-libdir && mkdir enrichViewNet.buildbin-libdir && /Users/biocbuild/BBS/utils/build-universal.sh enrichViewNet_1.7.3.tar.gz /Library/Frameworks/R.framework/Resources/bin/R enrichViewNet.buildbin-libdir StartedAt: 2025-10-28 22:58:44 -0400 (Tue, 28 Oct 2025) EndedAt: 2025-10-28 22:58:55 -0400 (Tue, 28 Oct 2025) EllapsedTime: 11.2 seconds RetCode: 0 Status: OK PackageFile: enrichViewNet_1.7.3.tgz PackageFileSize: 4.472 MiB