Package: eisaR Version: 1.22.1 Command: /home/biocbuild/bbs-3.22-bioc/R/bin/R CMD INSTALL eisaR StartedAt: 2025-11-16 15:25:08 -0500 (Sun, 16 Nov 2025) EndedAt: 2025-11-16 15:25:29 -0500 (Sun, 16 Nov 2025) EllapsedTime: 20.9 seconds RetCode: 0 Status: OK