Package: eisaR Version: 1.22.1 Command: /home/biocbuild/bbs-3.22-bioc/R/bin/R CMD build --keep-empty-dirs --no-resave-data --md5 eisaR StartedAt: 2025-11-16 17:35:15 -0500 (Sun, 16 Nov 2025) EndedAt: 2025-11-16 17:36:43 -0500 (Sun, 16 Nov 2025) EllapsedTime: 88.1 seconds RetCode: 0 Status: OK PackageFile: eisaR_1.22.1.tar.gz PackageFileSize: 1.908 MiB