Package: eiR Version: 1.50.0 Command: /home/biocbuild/bbs-3.22-bioc/R/bin/R CMD INSTALL eiR StartedAt: 2025-10-31 15:20:44 -0400 (Fri, 31 Oct 2025) EndedAt: 2025-10-31 15:20:55 -0400 (Fri, 31 Oct 2025) EllapsedTime: 10.3 seconds RetCode: 0 Status: OK