Package: edgeR Version: 4.8.0 Command: /home/biocbuild/bbs-3.22-bioc/R/bin/R CMD INSTALL edgeR StartedAt: 2025-10-29 21:19:22 -0400 (Wed, 29 Oct 2025) EndedAt: 2025-10-29 21:19:39 -0400 (Wed, 29 Oct 2025) EllapsedTime: 17.0 seconds RetCode: 0 Status: OK