Package: easyreporting Version: 1.22.0 Command: /Library/Frameworks/R.framework/Resources/bin/R CMD INSTALL easyreporting StartedAt: 2025-11-03 15:14:15 -0500 (Mon, 03 Nov 2025) EndedAt: 2025-11-03 15:14:54 -0500 (Mon, 03 Nov 2025) EllapsedTime: 39.2 seconds RetCode: 0 Status: OK