Package: easyreporting Version: 1.22.0 Command: /Library/Frameworks/R.framework/Resources/bin/R CMD build --keep-empty-dirs --no-resave-data easyreporting StartedAt: 2025-11-03 16:53:43 -0500 (Mon, 03 Nov 2025) EndedAt: 2025-11-03 16:53:56 -0500 (Mon, 03 Nov 2025) EllapsedTime: 12.6 seconds RetCode: 0 Status: OK PackageFile: easyreporting_1.22.0.tar.gz PackageFileSize: 2.94 MiB