Package: easyreporting Version: 1.22.0 Command: rm -rf easyreporting.buildbin-libdir && mkdir easyreporting.buildbin-libdir && /Users/biocbuild/BBS/utils/build-universal.sh easyreporting_1.22.0.tar.gz /Library/Frameworks/R.framework/Resources/bin/R easyreporting.buildbin-libdir StartedAt: 2025-11-04 01:38:24 -0500 (Tue, 04 Nov 2025) EndedAt: 2025-11-04 01:38:32 -0500 (Tue, 04 Nov 2025) EllapsedTime: 8.1 seconds RetCode: 0 Status: OK PackageFile: easyreporting_1.22.0.tgz PackageFileSize: 3.108 MiB