Package: easylift Version: 1.8.0 Command: /home/biocbuild/bbs-3.22-bioc/R/bin/R CMD INSTALL easylift StartedAt: 2025-11-25 15:59:34 -0500 (Tue, 25 Nov 2025) EndedAt: 2025-11-25 16:00:08 -0500 (Tue, 25 Nov 2025) EllapsedTime: 34.1 seconds RetCode: 0 Status: OK