Package: easyRNASeq Version: 2.45.1 Command: /home/biocbuild/bbs-3.22-bioc/R/bin/R CMD INSTALL easyRNASeq StartedAt: 2025-10-24 16:02:41 -0400 (Fri, 24 Oct 2025) EndedAt: 2025-10-24 16:03:24 -0400 (Fri, 24 Oct 2025) EllapsedTime: 43.6 seconds RetCode: 0 Status: OK