Package: easyRNASeq Version: 2.45.1 Command: /home/biocbuild/bbs-3.22-bioc/R/bin/R CMD build --keep-empty-dirs --no-resave-data --md5 easyRNASeq StartedAt: 2025-10-24 17:36:27 -0400 (Fri, 24 Oct 2025) EndedAt: 2025-10-24 17:40:25 -0400 (Fri, 24 Oct 2025) EllapsedTime: 237.3 seconds RetCode: 0 Status: OK PackageFile: easyRNASeq_2.45.1.tar.gz PackageFileSize: 69.56 MiB