Package: dupRadar Version: 1.39.1 Command: /home/biocbuild/bbs-3.22-bioc/R/bin/R CMD INSTALL dupRadar StartedAt: 2025-10-24 15:16:26 -0400 (Fri, 24 Oct 2025) EndedAt: 2025-10-24 15:17:07 -0400 (Fri, 24 Oct 2025) EllapsedTime: 40.4 seconds RetCode: 0 Status: OK