Package: dreamlet Version: 1.7.1 Command: /home/biocbuild/bbs-3.22-bioc/R/bin/R CMD INSTALL dreamlet StartedAt: 2025-10-28 16:00:47 -0400 (Tue, 28 Oct 2025) EndedAt: 2025-10-28 16:01:59 -0400 (Tue, 28 Oct 2025) EllapsedTime: 72.3 seconds RetCode: 0 Status: OK