Package: drawProteins Version: 1.30.0 Command: /home/biocbuild/bbs-3.22-bioc/R/bin/R CMD INSTALL drawProteins StartedAt: 2025-11-06 15:08:34 -0500 (Thu, 06 Nov 2025) EndedAt: 2025-11-06 15:08:42 -0500 (Thu, 06 Nov 2025) EllapsedTime: 8.7 seconds RetCode: 0 Status: OK