Package: drawProteins Version: 1.30.0 Command: /home/biocbuild/bbs-3.22-bioc/R/bin/R CMD build --keep-empty-dirs --no-resave-data --md5 drawProteins StartedAt: 2025-11-06 17:25:30 -0500 (Thu, 06 Nov 2025) EndedAt: 2025-11-06 17:25:56 -0500 (Thu, 06 Nov 2025) EllapsedTime: 26.0 seconds RetCode: 0 Status: OK PackageFile: drawProteins_1.30.0.tar.gz PackageFileSize: 1.652 MiB