Package: doubletrouble Version: 1.9.1 Command: /home/biocbuild/bbs-3.22-bioc/R/bin/R CMD INSTALL doubletrouble StartedAt: 2025-10-24 16:02:42 -0400 (Fri, 24 Oct 2025) EndedAt: 2025-10-24 16:03:23 -0400 (Fri, 24 Oct 2025) EllapsedTime: 41.5 seconds RetCode: 0 Status: OK